BEGIN:VCALENDAR
VERSION:2.0
PRODID:-//Contratero//ES
CALSCALE:GREGORIAN
METHOD:PUBLISH
BEGIN:VEVENT
UID:DNA 471/2024@contratero.es
DTSTAMP:20260422T044712Z
DTSTART:20250131T235959
DTEND:20250201T005959
SUMMARY:Cierre: Mejoras del sistema crami y actividades de soporte
DESCRIPTION:Mejoras del sistema crami y actividades de soporte para la pasarela amhs/swim\\n\\nOrganismo: Dirección Económico-Financiera de ENAIRE\\n\\nVer en Contratero: https://contratero.es/contracts/DNA 471/2024
URL:https://contratero.es/contracts/DNA 471/2024
STATUS:CONFIRMED
BEGIN:VALARM
TRIGGER:-P1D
ACTION:DISPLAY
DESCRIPTION:Recordatorio: Mejoras del sistema crami y ac
END:VALARM
END:VEVENT
END:VCALENDAR